BEGIN:VCALENDAR
VERSION:2.0
PRODID:-//Latinas En Suiza - ECPv6.5.2//NONSGML v1.0//EN
CALSCALE:GREGORIAN
METHOD:PUBLISH
X-WR-CALNAME:Latinas En Suiza
X-ORIGINAL-URL:https://latinasensuiza.ch
X-WR-CALDESC:Eventos para Latinas En Suiza
REFRESH-INTERVAL;VALUE=DURATION:PT1H
X-Robots-Tag:noindex
X-PUBLISHED-TTL:PT1H
BEGIN:VTIMEZONE
TZID:Europe/Paris
BEGIN:DAYLIGHT
TZOFFSETFROM:+0100
TZOFFSETTO:+0200
TZNAME:CEST
DTSTART:20230326T010000
END:DAYLIGHT
BEGIN:STANDARD
TZOFFSETFROM:+0200
TZOFFSETTO:+0100
TZNAME:CET
DTSTART:20231029T010000
END:STANDARD
END:VTIMEZONE
BEGIN:VEVENT
DTSTART;TZID=Europe/Paris:20230904T200000
DTEND;TZID=Europe/Paris:20230904T213000
DTSTAMP:20260424T205524
CREATED:20230704T150242Z
LAST-MODIFIED:20230705T082415Z
UID:1365-1693857600-1693863000@latinasensuiza.ch
SUMMARY:Charla: Relaciones multiculturales
DESCRIPTION:Fecha: Lunes 4 de septiembreLugar: Online ZoomHora: 20:00 – 21:30 Hrs \n			\n				Reserva ahora\n			\n			\n				\n				\n				\n				\n			\n				\n				\n				\n				\n				\n				\n				\n				\n				\n				\n				¿Vives una relación intercultural y te encuentras navegando en un océano de diferencias culturales? ¿Te preguntas cómo enfrentar los desafíos que esto puede presentar? Si te identificas tendremos una charla de nuestro Latinclub no querrás perderte. \nNos complace invitarte a nuestra próxima charla\, “Relaciones Multiculturales: Navegando entre Culturas Diversas”. \nEste encuentro tiene como objetivo compartir experiencias auténticas\, mientras se exponen algunas herramientas esenciales para construir una relación de pareja sana y amorosa. \nDurante esta charla\, exploraremos temas como: \nComunicación: La comunicación es fundamental en cualquier relación\, pero en una relación multicultural\, es aún más importante. Aprenderemos técnicas de comunicación efectiva que respetan y celebran las diferencias culturales. \nComprensión Cultural: Abordaremos la importancia de entender las sutilezas culturales de tu pareja\, desde tradiciones hasta formas de pensar. \nResolución de Conflictos: Todas las relaciones tienen conflictos\, pero las parejas multiculturales pueden enfrentarse a desafíos adicionales. Discutiremos estrategias efectivas para manejar y resolver estos conflictos de manera respetuosa y amorosa. \nApoyo Social: También hablaremos sobre la importancia de contar con una red de apoyo de amigos y familiares que entiendan y apoyen tu relación multicultural. \nEscucharás sus historias\, aprenderás de sus experiencias y tendrás la oportunidad de compartir tus propias vivencias si lo deseas. \nNo importa en qué etapa de tu relación te encuentres\, esta charla te brindará las herramientas que necesitas para nutrir y fortalecer tu amor a través de la diversidad cultural. \nUn espacio seguro para hablar de estos temas tan relevantes para nuestra vida en Suiza. \n\nTe invitamos a seguir a nuestra querida Anita\, quien profundiza con hermosas reflexiones todas las etapas de nuestro proceso de vida en Suiza transitarconsciente \n\nEstas inspiradoras charlas son un beneficio gratuito para los miembros de nuestra comunidad de Latinas en Suiza. Si deseas participar y aún no eres miembro\, te invitamos a unirte a nuestra membresía. \nAlternativamente\, te brindamos la oportunidad de adquirir tu entrada en nuestra encantadora tiendita Latina por un módico valor de CHF 20. Al obtener este boleto\, estarás contribuyendo a una noble causa social en Colombia. \n¡Te esperamos con los brazos abiertos! \n			\n				Reserva ahora
URL:https://latinasensuiza.ch/event/relaciones-multiculturales/
LOCATION:Online – via Zoom\, Wehntalerstrasse 551\, 8046 Zürich\, Switzerland
CATEGORIES:Desarrollo personal y autoconocimiento
ATTACH;FMTTYPE=image/png:https://latinasensuiza.ch/wp-content/uploads/2023/06/Relaciones-multiculturales-Latinas-en-Suiza.png
END:VEVENT
BEGIN:VEVENT
DTSTART;TZID=Europe/Paris:20230821T200000
DTEND;TZID=Europe/Paris:20230821T213000
DTSTAMP:20260424T205524
CREATED:20230704T145634Z
LAST-MODIFIED:20230706T123639Z
UID:1360-1692648000-1692653400@latinasensuiza.ch
SUMMARY:Charla: Nuestros Derechos y deberes en Suiza
DESCRIPTION:Fecha: Lunes 21 de agostoLugar: Online ZoomHora: 20:00 – 21:30 Hrs \n			\n				Reserva ahora\n			\n			\n				\n				\n				\n				\n			\n				\n				\n				\n				\n				\n				\n				\n				\n				\n				\n				Te invitamos a unirte a un encuentro donde hablaremos sobre los derechos y deberes de las mujeres migrantes en Suiza. Queremos brindarte toda la información necesaria para que te estés informada en este nuevo país que ahora llamamos hogar. \nDurante nuestra charla\, vamos a cubrir temas legales y sociales que influyen a las mujeres migrantes en Suiza. Hablaremos sobre derechos laborales\, igualdad de género\, acceso a servicios de salud y educación\, y todo lo que necesitan saber para adaptarse y prosperar en este hermoso país. \n¡No te pierdas esta increíble charla sobre los derechos y deberes de las mujeres migrantes en Suiza! Estamos seguros de que saldrás de allí con información valiosa y una mayor confianza para enfrentar cualquier desafío que se te presente. \n\nSi deseas profundizar sobre algun tema legal te invitamos a que la sigas a nuestra querida Ana Moncada moncada.legal \nAqui su tarjeta virtual: Ana Moncada – Abogada \n\nEstas inspiradoras charlas son un beneficio gratuito para los miembros de nuestra comunidad de Latinas en Suiza. Si deseas participar y aún no eres miembro\, te invitamos a unirte a nuestra membresía. \nAlternativamente\, te brindamos la oportunidad de adquirir tu entrada en nuestra encantadora tiendita Latina por un módico valor de CHF 20. Al obtener este boleto\, también estarás contribuyendo a una noble causa social en Colombia. \n ¡Te esperamos con los brazos abiertos! \n			\n				Reserva ahora
URL:https://latinasensuiza.ch/event/nuestros-derechos-y-deberes-en-suiza/
LOCATION:Online – via Zoom\, Wehntalerstrasse 551\, 8046 Zürich\, Switzerland
CATEGORIES:Desarrollo personal y autoconocimiento
ATTACH;FMTTYPE=image/png:https://latinasensuiza.ch/wp-content/uploads/2023/06/Nuestros-Derechos-y-deberes-en-Suiza-Latinas-en-Suiza.png
END:VEVENT
BEGIN:VEVENT
DTSTART;TZID=Europe/Paris:20230819T113000
DTEND;TZID=Europe/Paris:20230819T183000
DTSTAMP:20260424T205524
CREATED:20230801T170017Z
LAST-MODIFIED:20230801T174421Z
UID:1584-1692444600-1692469800@latinasensuiza.ch
SUMMARY:Desfile veneciano con amigas
DESCRIPTION:Fecha: Sábado 19 de agostoLugar: Nyon\, VaudHora: 11:30 am – 18:00 Horas \n			\n				Reserva ahora\n			\n			\n				\n				\n				\n				\n			\n				\n				\n				\n				\n				\n				\n				\n				\n				\n				\n				\n\nCada año\, el Carnaval de Venecia convierte la ciudad en un derroche espectacular de pompa\, color\, actuaciones musicales\, exhibiciones de fuegos artificiales y glamorosos bailes venecianos. Nosotras tendremos la oportunidad de experimentarlo en Yvoire\, donde se replica esta atmósfera exótica de Venecia en un hermoso desfile por el pueblo hermoso medieval de Yvoire. \nUn desfile veneciano lleno de color\, música y diversión nos espera. \n? Fecha: 19 de agosto \n? Lugar: Yvoire\, Francia \n⏰ Hora: 11:30 \nEste evento anual nos ofrece la oportunidad de vivir la magia del carnaval veneciano en medio de las pintorescas calles adoquinadas de Yvoire. Las máscaras elaboradas\, los trajes exquisitos y las emocionantes actuaciones se combinan para brindarnos una experiencia única que quedará grabada en nuestros corazones. \nDespués del desfile\, podremos disfrutar de las maravillas de Yvoire\, con sus jardines florales\, hermosas fachadas históricas y vistas impresionantes del lago Lemán. Además\, tendremos la oportunidad de degustar deliciosa comida local en los acogedores restaurantes que ofrecen especialidades regionales\, con una vista espectacular. \nEl encantador itinerario incluye: \n?️ Delicioso almuerzo típico en Yvoire (No incluye bebidas) \n?️ Detallito especial \n?Tour por Yvoire \n Costo: \nTicket general: CHF 74 ? \nTicket comunidad: CHF 64 (Pregunta por el código de descuento) \n\n\nPara unirte a este paseo\, necesitas adquirir la tarjeta del día\, ya que esta cubre el costo del barco. \n\n¡Este evento promete ser inolvidable\, y qué mejor manera de disfrutarlo que junto a nuestras amigas latinas en Suiza! Ven y compartamos risas\, fotos increíbles y momentos llenos de alegría. \nSi desean ser parte de este festín de elegancia y color\, reserven la fecha y únanse a nosotras en Yvoire para vivir una experiencia única. \n ? Política de cancelación:Antes del 12 de agosto\, se te devolverá el 50% del pago. Después de esta fecha\, no se generará ningún reembolso. \n Salida ideal de Zúrich: \nEstación principal: 8:44 \nSalida ideal de Berna: \nEstación principal: 10:04 \n\n\n\n\n\n Si aun tienes inquietudes puedes enviarme un correito a paola@latinasensuiza.ch y con gusto te las resolver\n\n\n			\n				Reserva ahora
URL:https://latinasensuiza.ch/event/desfile-veneciano-con-amigas/
LOCATION:Nyon\, Nyon\, Switzerland
CATEGORIES:Viajes y turismo
ATTACH;FMTTYPE=image/jpeg:https://latinasensuiza.ch/wp-content/uploads/2023/08/62.jpg
END:VEVENT
BEGIN:VEVENT
DTSTART;TZID=Europe/Paris:20230807T200000
DTEND;TZID=Europe/Paris:20230807T213000
DTSTAMP:20260424T205524
CREATED:20230704T145032Z
LAST-MODIFIED:20230705T082129Z
UID:1354-1691438400-1691443800@latinasensuiza.ch
SUMMARY:Charla: Arquetipos financieros
DESCRIPTION:Fecha: Lunes 7 de agostoLugar: Online ZoomHora: 20:00 – 21:30 Hrs \n			\n				Reserva ahora\n			\n			\n				\n				\n				\n				\n			\n				\n				\n				\n				\n				\n				\n				\n				\n				\n				\n				Sabemos que el mundo de las finanzas puede ser desafiante\, queremos brindarte herramientas y conocimientos que te permitan tomar decisiones financieras más informadas y empoderadas. \nEn esta charla\, nos sumergiremos en el fascinante mundo de los arquetipos financieros. Los arquetipos son patrones o modelos que se repiten en diferentes contextos\, y en el ámbito financiero\, nos ayudan a comprender los comportamientos y motivaciones en nuestras decisiones monetarias. \nA lo largo del evento hablaremos sobre los distintos arquetipos financieros y su influencia en nuestras vidas. Exploraremos cómo estos arquetipos pueden afectar nuestra relación con el dinero\, nuestras decisiones de inversión\, la gestión del riesgo y nuestra planificación financiera. \nEs importante destacar que esta charla está diseñada específicamente para mujeres\, ya que reconocemos la necesidad de abordar los desafíos y oportunidades financieras que enfrentamos en nuestra vida cotidiana. \nQueremos brindar un espacio seguro y de apoyo donde podamos compartir experiencias\, aprender juntas y fortalecernos mutuamente en nuestra búsqueda de la independencia financiera. \nIndependientemente de tu nivel de conocimiento en finanzas\, esta charla te brindará información valiosa y perspectivas únicas. \n¡No pierdas la oportunidad de unirte a esta charla única sobre Arquetipos Financieros para mujeres! Estamos seguras de que te llevarás valiosas lecciones y herramientas prácticas para fortalecer tu relación con el dinero y alcanzar tus metas financieras. \nEsta charla estará a cargo de Ana Maria Garofalo\, a quien le agradecemos adentrarnos en estos temas tan interesantes. \n\nSi deseas aprender más sobre la los arquetipos financieros: soyanamariagarofalo \n \n\nEstas inspiradoras charlas son un beneficio gratuito para los miembros de nuestra comunidad de Latinas en Suiza. Si deseas participar y aún no eres miembro\, te invitamos a unirte a nuestra membresía. \nAlternativamente\, te brindamos la oportunidad de adquirir tu entrada en nuestra encantadora tiendita Latina por un módico valor de CHF 20. Al obtener este boleto\, estarás contribuyendo a una noble causa social en Colombia. \n¡Te esperamos con los brazos abiertos! \n			\n				Reserva ahora
URL:https://latinasensuiza.ch/event/arquetipos-financieros/
LOCATION:Online – via Zoom\, Wehntalerstrasse 551\, 8046 Zürich\, Switzerland
CATEGORIES:Emprendimiento y negocio
ATTACH;FMTTYPE=image/png:https://latinasensuiza.ch/wp-content/uploads/2023/07/Imagenes-Blog-eventos-Web-y-Latinclub-1.png
END:VEVENT
BEGIN:VEVENT
DTSTART;TZID=Europe/Paris:20230725T190000
DTEND;TZID=Europe/Paris:20230725T203000
DTSTAMP:20260424T205524
CREATED:20230706T121546Z
LAST-MODIFIED:20230718T092612Z
UID:1456-1690311600-1690317000@latinasensuiza.ch
SUMMARY:Conoce tus derechos: Leyes de Salud y Seguridad Social en Suiza
DESCRIPTION:Fecha: Martes 25 de julioLugar: Online ZoomHora: 19:00 – 20:30 Hrs \n			\n				Reserva ahora\n			\n			\n				\n				\n				\n				\n			\n				\n				\n				\n				\n				\n				\n				\n				\n				\n				\n				Navegando por los Tres Pilares del Sistema de Previsión en Suiza: Una Guía para las Mujeres latinoamericanas viviendo en Suiza. \n\nIntroducción al Sistema de los Tres Pilares: Explicaríamos el sistema de los tres pilares y cómo impacta directamente en la vida de las mujeres residentes en Suiza\, particularmente en términos de previsión de vejez\, sobrevivientes e invalidez.\nEl Primer Pilar – Seguro de Vejez y Sobrevivencia (AVS): Resaltaríamos cómo este pilar proporciona seguridad financiera durante la jubilación y en situaciones de invalidez\, y cómo impacta a las nuevas integrantes de familias suizas en caso de pérdida de su cónyuge.\nEl Segundo Pilar – La Previsión Profesional: Abordaríamos cómo el segundo pilar ayuda a mantener el nivel de vida después de la jubilación\, especialmente para aquellas que han trabajado en Suiza o cuyos cónyuges han contribuido.\nEl Tercer Pilar – La Previsión Individual: Mostraríamos la importancia del ahorro voluntario para las mujeres latinoamericanas residentes en Suiza\, y cómo puede proporcionar una capa adicional de seguridad financiera. Explicaríamos el valor del seguro de vida y cómo planificar y optimizar este pilar.\nNavegando el Sistema Como residente en Suiza: Cómo participar activamente en la planificación de la previsión\, qué esperar del sistema y cómo prepararse para cualquier eventualidad.\nPerspectivas y Desafíos del Sistema de los Tres Pilares: Con un enfoque en nuestra comunidad Latinas discutiremos los desafíos que podría presentar este sistema y cómo adaptarse a ellos. Esto podría incluir cómo manejar la transición si provienen de un país con un sistema diferente\, y los beneficios disponibles para ellas y sus familias.\nRonda de preguntas y respuestas: Por último\, dedicaríamos tiempo a abordar las preguntas específicas de nuestra comunidad. También compartiremos recursos útiles para obtener más información y asesoramiento sobre el sistema de los tres pilares.\n\nEstas inspiradoras charlas son un beneficio gratuito para los miembros de nuestra comunidad de Latinas en Suiza. Si deseas participar y aún no eres miembro\, te invitamos a unirte a nuestra membresía. \n\nAgradecemos inmensamente a nuestro querido Alejandro por su apoyo y colaboración en estos espacios importantes para nuestro desarrollo profesional y personal\, un gran aliado para todos los temas legales en Suiza. \nSíguelo ahora en sus redes sociales\, y guarda su contacto que seguro te será de gran utilidad: \nInstagram (@fontisberatung)\n\n			\n				Reserva ahora
URL:https://latinasensuiza.ch/event/conoce-tus-derechos-leyes-de-salud-y-seguridad-social-en-suiza/
LOCATION:Online – via Zoom\, Wehntalerstrasse 551\, 8046 Zürich\, Switzerland
CATEGORIES:Desarrollo personal y autoconocimiento
ATTACH;FMTTYPE=image/png:https://latinasensuiza.ch/wp-content/uploads/2023/07/Alejandro-Post.png
END:VEVENT
BEGIN:VEVENT
DTSTART;TZID=Europe/Paris:20230717T200000
DTEND;TZID=Europe/Paris:20230717T213000
DTSTAMP:20260424T205524
CREATED:20230704T143110Z
LAST-MODIFIED:20230705T081914Z
UID:1342-1689624000-1689629400@latinasensuiza.ch
SUMMARY:Charla sobre salud\, cuerpo y mente
DESCRIPTION:Fecha: Lunes 17 de julioLugar: Online ZoomHora: 20:00 – 21:30 Hrs \n			\n				Reserva ahora\n			\n			\n				\n				\n				\n				\n			\n				\n				\n				\n				\n				\n				\n				\n				\n				\n				\n				En esta charla sobre salud en cuerpo y mente desde la perspectiva de la migración\, se aborda la conexión entre la salud física y mental durante este proceso. \nLa migración implica desafíos y tensiones que pueden afectar ambos aspectos. La salud física se refiere al estado físico del cuerpo\, incluyendo nutrición\, ejercicio\, descanso y prevención de enfermedades. \nLa salud mental abarca el bienestar psicológico\, emocional y cognitivo. La migración puede impactar negativamente la salud física y mental\, por lo que es importante abordar ambos aspectos de manera integral. \nUna buena salud física puede mejorar la salud mental\, y viceversa.  En esta charla  se busca promover un enfoque integral para nuestro bienestar\, entender como funciona\, como poder hacernos cargo de y acciones que deberíamos tener en nuestra diaria rutina para mejorar nuestra salud física y mental. \nEsta charla estará a cargo de la doctora:  Adriana Rua\, a quien le agradecemos su disposición y tiempo para este lindo espacio. \n\nSi deseas aprender más sobre salud integral síguela ahora: Doctorarua \n\nEstas inspiradoras charlas son un beneficio gratuito para los miembros de nuestra comunidad de Latinas en Suiza. Si deseas participar y aún no eres miembro\, te invitamos a unirte a nuestra membresía. \nAlternativamente\, te brindamos la oportunidad de adquirir tu entrada en nuestra encantadora tiendita Latina por un módico valor de CHF 20. Al obtener este boleto\, estarás contribuyendo a una noble causa social en Colombia. \n			\n				Reserva ahora
URL:https://latinasensuiza.ch/event/charla-sobre-salud-cuerpo-y-mente/
LOCATION:Online – via Zoom\, Wehntalerstrasse 551\, 8046 Zürich\, Switzerland
CATEGORIES:Salud y bienestar
ATTACH;FMTTYPE=image/png:https://latinasensuiza.ch/wp-content/uploads/2023/06/Charla-sobre-salud-cuerpo-y-mente-Latinas-en-Suiza.png
END:VEVENT
BEGIN:VEVENT
DTSTART;TZID=Europe/Paris:20230710T200000
DTEND;TZID=Europe/Paris:20230710T213000
DTSTAMP:20260424T205524
CREATED:20230620T064831Z
LAST-MODIFIED:20230705T082012Z
UID:1302-1689019200-1689024600@latinasensuiza.ch
SUMMARY:Charla: De la frustración a tu emprendimiento
DESCRIPTION:Fecha: Lunes 10 de julioLugar: Online ZoomHora: 20:00 – 21:30 Hrs \n			\n				Reserva ahora\n			\n			\n				\n				\n				\n				\n			\n				\n				\n				\n				\n				\n				\n				\n				\n				\n				\n				La charla “De la Frustración a tu Emprendimiento” es una exploración fascinante y empoderadora de cómo las dificultades y desafíos pueden servir de base para el nacimiento de ideas empresariales innovadoras y exitosas. En este encuentro de Latinclub\, no solo aprenderemos a cambiar nuestra percepción sobre la frustración\, sino que también entenderemos cómo convertirla en una poderosa motivación para nuestro emprendimiento. \nReformulación de la Frustración: Este evento promoverá un cambio de paradigma acerca de la frustración. En lugar de verla como un obstáculo\, aprenderemos a verla como una oportunidad para crecer y desarrollar nuevas ideas de negocio. \nMentalidad Empresarial: Analizaremos cómo una mentalidad positiva y resiliente puede ser una herramienta esencial para enfrentar desafíos y emprender con éxito. Se compartirán técnicas y estrategias para fomentar una mentalidad emprendedora. \nCreatividad para Todos: La creatividad no es un don exclusivo de unos pocos\, sino una habilidad que todos podemos cultivar y utilizar en nuestros proyectos. Durante esta charla\, exploraremos formas de fomentar nuestra creatividad y aplicarla a nuestras ideas de negocio. \nEsta charla estará a cargo de nuestra querida Nataly\, a quien le agradecemos el compartirnos este espacio de tanto valor. \n\nSi deseas aprender más sobre este tema\, síguela ahora: Schweryinconsulting \n\nEstas inspiradoras charlas son un beneficio gratuito para los miembros de nuestra comunidad de Latinas en Suiza. Si deseas participar y aún no eres miembro\, te invitamos a unirte a nuestra membresía. \n Alternativamente\, te brindamos la oportunidad de adquirir tu entrada en nuestra encantadora tiendita Latina por un módico valor de CHF 20. Al obtener este boleto\, estarás contribuyendo a una noble causa social en Colombia. \nNuestra querida Nati donará el 5%  a un emprendimiento social en Colombia. \n ¡Te esperamos con los brazos abiertos! \n			\n				Reserva ahora
URL:https://latinasensuiza.ch/event/de-la-frustracion-a-tu-emprendimiento/
LOCATION:Online – via Zoom\, Wehntalerstrasse 551\, 8046 Zürich\, Switzerland
CATEGORIES:Desarrollo personal y autoconocimiento
ATTACH;FMTTYPE=image/png:https://latinasensuiza.ch/wp-content/uploads/2023/06/De-la-frustracion-a-tu-emprendimiento-latinas-en-suiza.png
END:VEVENT
BEGIN:VEVENT
DTSTART;TZID=Europe/Paris:20230611T110000
DTEND;TZID=Europe/Paris:20230611T160000
DTSTAMP:20260424T205524
CREATED:20230404T211756Z
LAST-MODIFIED:20230418T191425Z
UID:380-1686481200-1686499200@latinasensuiza.ch
SUMMARY:Brunch Networking Junio Conectadas en ROSA
DESCRIPTION:Fecha: Domingo 11 de junioLugar: BernaHora: 11 amDuración aprox. del evento: 4-5 Horas. \n			\n				Reserva ahora\n			\n			\n				\n				\n				\n				\n			\n				\n				\n				\n				\n				\n				\n				\n				\n				\n				\n				\n\n\n\nNuestro evento está diseñado para celebrar el talento\, la pasión y el éxito de mujeres inspiradoras de diversos campos y para fomentar el crecimiento personal y profesional a través de la interacción y el intercambio de ideas.\n\n\n \n\n\nDurante nuestro evento podrás disfrutar de: ? ? ?  ?️\n\n\n \n\n\nCharlas y paneles de discusión con líderes y expertos de la industria. ?\n\n\nCharla Marca Personal – Àngela Vivó\n\n\nQué es\, diferencias con la Marca Comercial\, y para qué nos puede servir.\n\n\n \n\n\nCharla práctica – Paola Ruffiner Producción de videos para redes sociales.\n\n\nNetworking con mujeres exitosas y profesionales de diferentes áreas y venta de productos/servicios. ?\n\n\n \n\n\nTambién tendremos un espacio para la presentación de tus productos bajo un concepto muy especial: Bolsos de Negocios. Deseamos que disfrutes de un lindo día de inspiración y conexiones significativas que te ayuden a cumplir tus objetivos profesionales.\n\n\n \n\n\nActividades recreativas y oportunidades para relajarte y disfrutar de tu tiempo. ?Delicioso brunch y espacio para charlar\, compartir con amigas y conectar.\n\n\n \n\n\nDetalles importantes:\n\n\nFecha: domingo 11 de junio\n\n\n? Lugar: Berna\n\n\n⏰  Hora: 11 am\n\n\n? Duración aproximada del evento: 4-5 horas.\n\n\n \n\n\nCosto público general: CHF 150\n\n\n\nCosto miembro comunidad: CHF 129\n\n\nComunidades: FEMprendiendo – Latinas en Suiza\nPregunta por el codigo de descuento a Ángela o Paola \n\n\n \n\n\nIncluye: brunch\, charlas\, material didáctico\, regalo de bienvenida\, sesión de networking y certificado de asistencia.\n\n\n \n\n\n¡Gracias de nuevo por tu interés en nuestro evento! Máxima fecha de inscripción: 01 de junio.\n\n\n \n\n\nPaola y Àngela\n\n\n@latinasensuiza @femprendiendo_ch\n\n\n Si tienes inquietudes puedes enviarme un correito a paola@latinasensuiza.ch y con gusto te las resolver\n\n\n\n\n\n\n\n\n\n\n\n\n\n\n			\n				Reserva ahora
URL:https://latinasensuiza.ch/event/brunch-networking-junio-conectadas-en-rosa/
LOCATION:Berna\, Lausana\, Switzerland
CATEGORIES:Emprendimiento y negocio
ATTACH;FMTTYPE=image/jpeg:https://latinasensuiza.ch/wp-content/uploads/2023/04/Brunch.jpg
END:VEVENT
END:VCALENDAR